BEGIN:VCALENDAR
VERSION:2.0
PRODID:-//wp-events-plugin.com//7.2.3.1//EN
TZID:Europe/Helsinki
X-WR-TIMEZONE:Europe/Helsinki
BEGIN:VEVENT
UID:1@initialise-project.eu
DTSTART;TZID=Europe/Helsinki:20230424T083000
DTEND;TZID=Europe/Helsinki:20230424T160000
DTSTAMP:20230420T063439Z
URL:https://initialise-project.eu/events/initialise-minisymposium/
SUMMARY:INITIALISE Minisymposium
DESCRIPTION:
ATTACH;FMTTYPE=image/jpeg:https://initialise-project.eu/wp-content/uploads
 /2023/04/INITIALISEmini-symposium-thumbnail-400x400-1.png
LOCATION:Presidentti auditorium\, Tykistökatu 6 A\, Turku\, Finland\, 2052
 0 \, Finland
X-APPLE-STRUCTURED-LOCATION;VALUE=URI;X-ADDRESS=Tykistökatu 6 A\, Turku\, 
 Finland\, 20520 \, Finland;X-APPLE-RADIUS=100;X-TITLE=Presidentti auditori
 um:geo:0,0
END:VEVENT
BEGIN:VTIMEZONE
TZID:Europe/Helsinki
X-LIC-LOCATION:Europe/Helsinki
BEGIN:DAYLIGHT
DTSTART:20230326T040000
TZOFFSETFROM:+0200
TZOFFSETTO:+0300
TZNAME:EEST
END:DAYLIGHT
END:VTIMEZONE
END:VCALENDAR